BEGIN:VCALENDAR
VERSION:2.0
PRODID:-//Mensch-Tier-Sprache - ECPv6.15.20//NONSGML v1.0//EN
CALSCALE:GREGORIAN
METHOD:PUBLISH
X-WR-CALNAME:Mensch-Tier-Sprache
X-ORIGINAL-URL:https://www.mensch-tier-sprache.de
X-WR-CALDESC:Veranstaltungen für Mensch-Tier-Sprache
REFRESH-INTERVAL;VALUE=DURATION:PT1H
X-Robots-Tag:noindex
X-PUBLISHED-TTL:PT1H
BEGIN:VTIMEZONE
TZID:Europe/Berlin
BEGIN:DAYLIGHT
TZOFFSETFROM:+0100
TZOFFSETTO:+0200
TZNAME:CEST
DTSTART:20240331T010000
END:DAYLIGHT
BEGIN:STANDARD
TZOFFSETFROM:+0200
TZOFFSETTO:+0100
TZNAME:CET
DTSTART:20241027T010000
END:STANDARD
BEGIN:DAYLIGHT
TZOFFSETFROM:+0100
TZOFFSETTO:+0200
TZNAME:CEST
DTSTART:20250330T010000
END:DAYLIGHT
BEGIN:STANDARD
TZOFFSETFROM:+0200
TZOFFSETTO:+0100
TZNAME:CET
DTSTART:20251026T010000
END:STANDARD
BEGIN:DAYLIGHT
TZOFFSETFROM:+0100
TZOFFSETTO:+0200
TZNAME:CEST
DTSTART:20260329T010000
END:DAYLIGHT
BEGIN:STANDARD
TZOFFSETFROM:+0200
TZOFFSETTO:+0100
TZNAME:CET
DTSTART:20261025T010000
END:STANDARD
END:VTIMEZONE
BEGIN:VEVENT
DTSTART;TZID=Europe/Berlin:20250308T093000
DTEND;TZID=Europe/Berlin:20250308T103000
DTSTAMP:20260420T153442
CREATED:20250220T143210Z
LAST-MODIFIED:20250220T143210Z
UID:1505-1741426200-1741429800@www.mensch-tier-sprache.de
SUMMARY:Welpengruppe
DESCRIPTION:
URL:https://www.mensch-tier-sprache.de/veranstaltung/welpengruppe-51/
LOCATION:Rochuspark
CATEGORIES:Hundeschule,Welpen,Welpengruppe
END:VEVENT
BEGIN:VEVENT
DTSTART;TZID=Europe/Berlin:20250315T093000
DTEND;TZID=Europe/Berlin:20250315T103000
DTSTAMP:20260420T153442
CREATED:20250220T143328Z
LAST-MODIFIED:20250220T143328Z
UID:1507-1742031000-1742034600@www.mensch-tier-sprache.de
SUMMARY:Welpengruppe
DESCRIPTION:
URL:https://www.mensch-tier-sprache.de/veranstaltung/welpengruppe-60/
LOCATION:Rochuspark
CATEGORIES:Hundeschule,Welpen,Welpengruppe
END:VEVENT
BEGIN:VEVENT
DTSTART;TZID=Europe/Berlin:20250322T093000
DTEND;TZID=Europe/Berlin:20250322T103000
DTSTAMP:20260420T153442
CREATED:20250220T145638Z
LAST-MODIFIED:20250220T145638Z
UID:1530-1742635800-1742639400@www.mensch-tier-sprache.de
SUMMARY:Welpengruppe
DESCRIPTION:
URL:https://www.mensch-tier-sprache.de/veranstaltung/welpengruppe-66/
LOCATION:Köln-Bickendorf\, Rochuspark
CATEGORIES:Hundeschule,Welpen,Welpengruppe
END:VEVENT
BEGIN:VEVENT
DTSTART;TZID=Europe/Berlin:20250329T093000
DTEND;TZID=Europe/Berlin:20250329T103000
DTSTAMP:20260420T153442
CREATED:20250220T143639Z
LAST-MODIFIED:20250220T143639Z
UID:1511-1743240600-1743244200@www.mensch-tier-sprache.de
SUMMARY:Welpengruppe
DESCRIPTION:
URL:https://www.mensch-tier-sprache.de/veranstaltung/welpengruppe-61/
LOCATION:Köln-Bickendorf\, Rochuspark
CATEGORIES:Hundeschule,Welpen,Welpengruppe
END:VEVENT
END:VCALENDAR