BEGIN:VCALENDAR
VERSION:2.0
PRODID:-//Mensch-Tier-Sprache - ECPv6.15.20//NONSGML v1.0//EN
CALSCALE:GREGORIAN
METHOD:PUBLISH
X-ORIGINAL-URL:https://www.mensch-tier-sprache.de
X-WR-CALDESC:Veranstaltungen für Mensch-Tier-Sprache
REFRESH-INTERVAL;VALUE=DURATION:PT1H
X-Robots-Tag:noindex
X-PUBLISHED-TTL:PT1H
BEGIN:VTIMEZONE
TZID:Europe/Berlin
BEGIN:DAYLIGHT
TZOFFSETFROM:+0100
TZOFFSETTO:+0200
TZNAME:CEST
DTSTART:20230326T010000
END:DAYLIGHT
BEGIN:STANDARD
TZOFFSETFROM:+0200
TZOFFSETTO:+0100
TZNAME:CET
DTSTART:20231029T010000
END:STANDARD
BEGIN:DAYLIGHT
TZOFFSETFROM:+0100
TZOFFSETTO:+0200
TZNAME:CEST
DTSTART:20240331T010000
END:DAYLIGHT
BEGIN:STANDARD
TZOFFSETFROM:+0200
TZOFFSETTO:+0100
TZNAME:CET
DTSTART:20241027T010000
END:STANDARD
BEGIN:DAYLIGHT
TZOFFSETFROM:+0100
TZOFFSETTO:+0200
TZNAME:CEST
DTSTART:20250330T010000
END:DAYLIGHT
BEGIN:STANDARD
TZOFFSETFROM:+0200
TZOFFSETTO:+0100
TZNAME:CET
DTSTART:20251026T010000
END:STANDARD
END:VTIMEZONE
BEGIN:VEVENT
DTSTART;TZID=Europe/Berlin:20240504T110000
DTEND;TZID=Europe/Berlin:20240504T120000
DTSTAMP:20260421T090652
CREATED:20240301T105035Z
LAST-MODIFIED:20240301T105035Z
UID:1166-1714820400-1714824000@www.mensch-tier-sprache.de
SUMMARY:Welpengruppe
DESCRIPTION:
URL:https://www.mensch-tier-sprache.de/veranstaltung/welpengruppe-42/
LOCATION:Köln-Ehrenfeld
CATEGORIES:Hundeschule,Welpen
END:VEVENT
BEGIN:VEVENT
DTSTART;TZID=Europe/Berlin:20240511T110000
DTEND;TZID=Europe/Berlin:20240511T120000
DTSTAMP:20260421T090652
CREATED:20240301T101544Z
LAST-MODIFIED:20240301T111019Z
UID:1132-1715425200-1715428800@www.mensch-tier-sprache.de
SUMMARY:Welpengruppe
DESCRIPTION:
URL:https://www.mensch-tier-sprache.de/veranstaltung/welpengruppe-37/
LOCATION:Köln-Ehrenfeld
CATEGORIES:Welpen
END:VEVENT
BEGIN:VEVENT
DTSTART;TZID=Europe/Berlin:20240518T110000
DTEND;TZID=Europe/Berlin:20240518T120000
DTSTAMP:20260421T090652
CREATED:20240301T114042Z
LAST-MODIFIED:20240301T114042Z
UID:1200-1716030000-1716033600@www.mensch-tier-sprache.de
SUMMARY:Welpengruppe
DESCRIPTION:
URL:https://www.mensch-tier-sprache.de/veranstaltung/welpengruppe-43/
LOCATION:Köln-Ehrenfeld
CATEGORIES:Hundeschule,Welpen
END:VEVENT
BEGIN:VEVENT
DTSTART;TZID=Europe/Berlin:20240525T110000
DTEND;TZID=Europe/Berlin:20240525T120000
DTSTAMP:20260421T090652
CREATED:20240301T114150Z
LAST-MODIFIED:20240301T114150Z
UID:1202-1716634800-1716638400@www.mensch-tier-sprache.de
SUMMARY:Welpengruppe
DESCRIPTION:
URL:https://www.mensch-tier-sprache.de/veranstaltung/welpengruppe-44/
LOCATION:Köln-Ehrenfeld
CATEGORIES:Hundeschule,Welpen
END:VEVENT
END:VCALENDAR