BEGIN:VCALENDAR
VERSION:2.0
PRODID:-//Mensch-Tier-Sprache - ECPv6.15.20//NONSGML v1.0//EN
CALSCALE:GREGORIAN
METHOD:PUBLISH
X-WR-CALNAME:Mensch-Tier-Sprache
X-ORIGINAL-URL:https://www.mensch-tier-sprache.de
X-WR-CALDESC:Veranstaltungen für Mensch-Tier-Sprache
REFRESH-INTERVAL;VALUE=DURATION:PT1H
X-Robots-Tag:noindex
X-PUBLISHED-TTL:PT1H
BEGIN:VTIMEZONE
TZID:Europe/Berlin
BEGIN:DAYLIGHT
TZOFFSETFROM:+0100
TZOFFSETTO:+0200
TZNAME:CEST
DTSTART:20220327T010000
END:DAYLIGHT
BEGIN:STANDARD
TZOFFSETFROM:+0200
TZOFFSETTO:+0100
TZNAME:CET
DTSTART:20221030T010000
END:STANDARD
BEGIN:DAYLIGHT
TZOFFSETFROM:+0100
TZOFFSETTO:+0200
TZNAME:CEST
DTSTART:20230326T010000
END:DAYLIGHT
BEGIN:STANDARD
TZOFFSETFROM:+0200
TZOFFSETTO:+0100
TZNAME:CET
DTSTART:20231029T010000
END:STANDARD
BEGIN:DAYLIGHT
TZOFFSETFROM:+0100
TZOFFSETTO:+0200
TZNAME:CEST
DTSTART:20240331T010000
END:DAYLIGHT
BEGIN:STANDARD
TZOFFSETFROM:+0200
TZOFFSETTO:+0100
TZNAME:CET
DTSTART:20241027T010000
END:STANDARD
END:VTIMEZONE
BEGIN:VEVENT
DTSTART;TZID=Europe/Berlin:20231104T100000
DTEND;TZID=Europe/Berlin:20231104T110000
DTSTAMP:20260421T205758
CREATED:20230908T121105Z
LAST-MODIFIED:20230908T121105Z
UID:1041-1699092000-1699095600@www.mensch-tier-sprache.de
SUMMARY:Welpengruppe
DESCRIPTION:
URL:https://www.mensch-tier-sprache.de/veranstaltung/welpengruppe-29/
LOCATION:Köln-Ehrenfeld
END:VEVENT
BEGIN:VEVENT
DTSTART;TZID=Europe/Berlin:20231111T100000
DTEND;TZID=Europe/Berlin:20231111T110000
DTSTAMP:20260421T205758
CREATED:20230908T121213Z
LAST-MODIFIED:20230908T121213Z
UID:1043-1699696800-1699700400@www.mensch-tier-sprache.de
SUMMARY:Welpengruppe
DESCRIPTION:
URL:https://www.mensch-tier-sprache.de/veranstaltung/welpengruppe-30/
LOCATION:Köln-Ehrenfeld
END:VEVENT
BEGIN:VEVENT
DTSTART;TZID=Europe/Berlin:20231118T100000
DTEND;TZID=Europe/Berlin:20231118T110000
DTSTAMP:20260421T205758
CREATED:20230908T121320Z
LAST-MODIFIED:20230908T121320Z
UID:1045-1700301600-1700305200@www.mensch-tier-sprache.de
SUMMARY:Welpengruppe
DESCRIPTION:
URL:https://www.mensch-tier-sprache.de/veranstaltung/welpengruppe-31/
LOCATION:Köln-Ehrenfeld
END:VEVENT
BEGIN:VEVENT
DTSTART;TZID=Europe/Berlin:20231125T100000
DTEND;TZID=Europe/Berlin:20231125T110000
DTSTAMP:20260421T205758
CREATED:20230908T121416Z
LAST-MODIFIED:20230908T121416Z
UID:1047-1700906400-1700910000@www.mensch-tier-sprache.de
SUMMARY:Welpengruppe
DESCRIPTION:
URL:https://www.mensch-tier-sprache.de/veranstaltung/welpengruppe-32/
LOCATION:Köln-Ehrenfeld
END:VEVENT
END:VCALENDAR