BEGIN:VCALENDAR
VERSION:2.0
PRODID:-//Mensch-Tier-Sprache - ECPv6.15.20//NONSGML v1.0//EN
CALSCALE:GREGORIAN
METHOD:PUBLISH
X-WR-CALNAME:Mensch-Tier-Sprache
X-ORIGINAL-URL:https://www.mensch-tier-sprache.de
X-WR-CALDESC:Veranstaltungen für Mensch-Tier-Sprache
REFRESH-INTERVAL;VALUE=DURATION:PT1H
X-Robots-Tag:noindex
X-PUBLISHED-TTL:PT1H
BEGIN:VTIMEZONE
TZID:Europe/Berlin
BEGIN:DAYLIGHT
TZOFFSETFROM:+0100
TZOFFSETTO:+0200
TZNAME:CEST
DTSTART:20220327T010000
END:DAYLIGHT
BEGIN:STANDARD
TZOFFSETFROM:+0200
TZOFFSETTO:+0100
TZNAME:CET
DTSTART:20221030T010000
END:STANDARD
BEGIN:DAYLIGHT
TZOFFSETFROM:+0100
TZOFFSETTO:+0200
TZNAME:CEST
DTSTART:20230326T010000
END:DAYLIGHT
BEGIN:STANDARD
TZOFFSETFROM:+0200
TZOFFSETTO:+0100
TZNAME:CET
DTSTART:20231029T010000
END:STANDARD
BEGIN:DAYLIGHT
TZOFFSETFROM:+0100
TZOFFSETTO:+0200
TZNAME:CEST
DTSTART:20240331T010000
END:DAYLIGHT
BEGIN:STANDARD
TZOFFSETFROM:+0200
TZOFFSETTO:+0100
TZNAME:CET
DTSTART:20241027T010000
END:STANDARD
END:VTIMEZONE
BEGIN:VEVENT
DTSTART;TZID=Europe/Berlin:20231007T100000
DTEND;TZID=Europe/Berlin:20231007T110000
DTSTAMP:20260421T223655
CREATED:20230908T120731Z
LAST-MODIFIED:20230908T120731Z
UID:1033-1696672800-1696676400@www.mensch-tier-sprache.de
SUMMARY:Welpengruppe
DESCRIPTION:
URL:https://www.mensch-tier-sprache.de/veranstaltung/welpengruppe-25/
LOCATION:Köln-Ehrenfeld
END:VEVENT
BEGIN:VEVENT
DTSTART;TZID=Europe/Berlin:20231014T100000
DTEND;TZID=Europe/Berlin:20231014T110000
DTSTAMP:20260421T223655
CREATED:20230908T120828Z
LAST-MODIFIED:20230908T120828Z
UID:1035-1697277600-1697281200@www.mensch-tier-sprache.de
SUMMARY:Welpengruppe
DESCRIPTION:
URL:https://www.mensch-tier-sprache.de/veranstaltung/welpengruppe-26/
LOCATION:Köln-Ehrenfeld
END:VEVENT
BEGIN:VEVENT
DTSTART;TZID=Europe/Berlin:20231021T100000
DTEND;TZID=Europe/Berlin:20231021T110000
DTSTAMP:20260421T223655
CREATED:20230908T120926Z
LAST-MODIFIED:20230908T120926Z
UID:1037-1697882400-1697886000@www.mensch-tier-sprache.de
SUMMARY:Welpengruppe
DESCRIPTION:
URL:https://www.mensch-tier-sprache.de/veranstaltung/welpengruppe-27/
LOCATION:Köln-Ehrenfeld
END:VEVENT
BEGIN:VEVENT
DTSTART;TZID=Europe/Berlin:20231028T100000
DTEND;TZID=Europe/Berlin:20231028T110000
DTSTAMP:20260421T223655
CREATED:20230908T121016Z
LAST-MODIFIED:20230908T121016Z
UID:1039-1698487200-1698490800@www.mensch-tier-sprache.de
SUMMARY:Welpengruppe
DESCRIPTION:
URL:https://www.mensch-tier-sprache.de/veranstaltung/welpengruppe-28/
LOCATION:Köln-Ehrenfeld
END:VEVENT
END:VCALENDAR