BEGIN:VCALENDAR
VERSION:2.0
PRODID:-//Mensch-Tier-Sprache - ECPv6.15.20//NONSGML v1.0//EN
CALSCALE:GREGORIAN
METHOD:PUBLISH
X-WR-CALNAME:Mensch-Tier-Sprache
X-ORIGINAL-URL:https://www.mensch-tier-sprache.de
X-WR-CALDESC:Veranstaltungen für Mensch-Tier-Sprache
REFRESH-INTERVAL;VALUE=DURATION:PT1H
X-Robots-Tag:noindex
X-PUBLISHED-TTL:PT1H
BEGIN:VTIMEZONE
TZID:Europe/Berlin
BEGIN:DAYLIGHT
TZOFFSETFROM:+0100
TZOFFSETTO:+0200
TZNAME:CEST
DTSTART:20240331T010000
END:DAYLIGHT
BEGIN:STANDARD
TZOFFSETFROM:+0200
TZOFFSETTO:+0100
TZNAME:CET
DTSTART:20241027T010000
END:STANDARD
BEGIN:DAYLIGHT
TZOFFSETFROM:+0100
TZOFFSETTO:+0200
TZNAME:CEST
DTSTART:20250330T010000
END:DAYLIGHT
BEGIN:STANDARD
TZOFFSETFROM:+0200
TZOFFSETTO:+0100
TZNAME:CET
DTSTART:20251026T010000
END:STANDARD
BEGIN:DAYLIGHT
TZOFFSETFROM:+0100
TZOFFSETTO:+0200
TZNAME:CEST
DTSTART:20260329T010000
END:DAYLIGHT
BEGIN:STANDARD
TZOFFSETFROM:+0200
TZOFFSETTO:+0100
TZNAME:CET
DTSTART:20261025T010000
END:STANDARD
END:VTIMEZONE
BEGIN:VEVENT
DTSTART;TZID=Europe/Berlin:20250308T104500
DTEND;TZID=Europe/Berlin:20250308T114500
DTSTAMP:20260422T202043
CREATED:20250220T150214Z
LAST-MODIFIED:20250220T150214Z
UID:1534-1741430700-1741434300@www.mensch-tier-sprache.de
SUMMARY:Junghundeschule
DESCRIPTION:
URL:https://www.mensch-tier-sprache.de/veranstaltung/junghundeschule/
LOCATION:Köln-Bickendorf\, Rochuspark
CATEGORIES:Hundeschule,Junghunde
END:VEVENT
BEGIN:VEVENT
DTSTART;TZID=Europe/Berlin:20250309T100000
DTEND;TZID=Europe/Berlin:20250309T110000
DTSTAMP:20260422T202043
CREATED:20250220T152026Z
LAST-MODIFIED:20250220T152026Z
UID:1554-1741514400-1741518000@www.mensch-tier-sprache.de
SUMMARY:Junghunde und Anfänger
DESCRIPTION:
URL:https://www.mensch-tier-sprache.de/veranstaltung/junghunde-und-anfaenger-2/
LOCATION:Köln-Bickendorf\, Rochuspark
CATEGORIES:Hundeschule,Hundeschule (Grundausbildung),Junghunde
END:VEVENT
BEGIN:VEVENT
DTSTART;TZID=Europe/Berlin:20250315T104500
DTEND;TZID=Europe/Berlin:20250315T114500
DTSTAMP:20260422T202043
CREATED:20250220T150444Z
LAST-MODIFIED:20250220T150444Z
UID:1536-1742035500-1742039100@www.mensch-tier-sprache.de
SUMMARY:Junghundeschule
DESCRIPTION:
URL:https://www.mensch-tier-sprache.de/veranstaltung/junghundeschule-2/
LOCATION:Köln-Bickendorf\, Rochuspark
CATEGORIES:Hundeschule,Junghunde
END:VEVENT
BEGIN:VEVENT
DTSTART;TZID=Europe/Berlin:20250316T100000
DTEND;TZID=Europe/Berlin:20250316T110000
DTSTAMP:20260422T202043
CREATED:20250220T152346Z
LAST-MODIFIED:20250220T152346Z
UID:1556-1742119200-1742122800@www.mensch-tier-sprache.de
SUMMARY:Junghunde und Anfänger
DESCRIPTION:
URL:https://www.mensch-tier-sprache.de/veranstaltung/junghunde-und-anfaenger-3/
LOCATION:Köln-Bickendorf\, Rochuspark
CATEGORIES:Hundeschule,Hundeschule (Grundausbildung),Junghunde
END:VEVENT
BEGIN:VEVENT
DTSTART;TZID=Europe/Berlin:20250322T104500
DTEND;TZID=Europe/Berlin:20250322T114500
DTSTAMP:20260422T202043
CREATED:20250220T151302Z
LAST-MODIFIED:20250220T151302Z
UID:1546-1742640300-1742643900@www.mensch-tier-sprache.de
SUMMARY:Junghundeschule
DESCRIPTION:
URL:https://www.mensch-tier-sprache.de/veranstaltung/junghundeschule-7/
LOCATION:Köln-Bickendorf\, Rochuspark
CATEGORIES:Hundeschule,Junghunde
END:VEVENT
BEGIN:VEVENT
DTSTART;TZID=Europe/Berlin:20250323T100000
DTEND;TZID=Europe/Berlin:20250323T110000
DTSTAMP:20260422T202043
CREATED:20250220T152519Z
LAST-MODIFIED:20250220T152519Z
UID:1558-1742724000-1742727600@www.mensch-tier-sprache.de
SUMMARY:Junghunde und Anfänger
DESCRIPTION:
URL:https://www.mensch-tier-sprache.de/veranstaltung/junghunde-und-anfaenger-4/
LOCATION:Köln-Bickendorf\, Rochuspark
CATEGORIES:Hundeschule,Hundeschule (Grundausbildung),Junghunde
END:VEVENT
BEGIN:VEVENT
DTSTART;TZID=Europe/Berlin:20250329T104500
DTEND;TZID=Europe/Berlin:20250329T114500
DTSTAMP:20260422T202043
CREATED:20250220T150615Z
LAST-MODIFIED:20250220T150615Z
UID:1538-1743245100-1743248700@www.mensch-tier-sprache.de
SUMMARY:Junghundeschule
DESCRIPTION:
URL:https://www.mensch-tier-sprache.de/veranstaltung/junghundeschule-3/
LOCATION:Köln-Bickendorf\, Rochuspark
CATEGORIES:Hundeschule,Junghunde
END:VEVENT
BEGIN:VEVENT
DTSTART;TZID=Europe/Berlin:20250330T100000
DTEND;TZID=Europe/Berlin:20250330T110000
DTSTAMP:20260422T202043
CREATED:20250220T152614Z
LAST-MODIFIED:20250220T152614Z
UID:1560-1743328800-1743332400@www.mensch-tier-sprache.de
SUMMARY:Junghunde und Anfänger
DESCRIPTION:
URL:https://www.mensch-tier-sprache.de/veranstaltung/junghunde-und-anfaenger-5/
LOCATION:Köln-Bickendorf\, Rochuspark
CATEGORIES:Hundeschule,Hundeschule (Grundausbildung),Junghunde
END:VEVENT
END:VCALENDAR