BEGIN:VCALENDAR
VERSION:2.0
PRODID:-//Mensch-Tier-Sprache - ECPv6.15.20//NONSGML v1.0//EN
CALSCALE:GREGORIAN
METHOD:PUBLISH
X-WR-CALNAME:Mensch-Tier-Sprache
X-ORIGINAL-URL:https://www.mensch-tier-sprache.de
X-WR-CALDESC:Veranstaltungen für Mensch-Tier-Sprache
REFRESH-INTERVAL;VALUE=DURATION:PT1H
X-Robots-Tag:noindex
X-PUBLISHED-TTL:PT1H
BEGIN:VTIMEZONE
TZID:Europe/Berlin
BEGIN:DAYLIGHT
TZOFFSETFROM:+0100
TZOFFSETTO:+0200
TZNAME:CEST
DTSTART:20240331T010000
END:DAYLIGHT
BEGIN:STANDARD
TZOFFSETFROM:+0200
TZOFFSETTO:+0100
TZNAME:CET
DTSTART:20241027T010000
END:STANDARD
BEGIN:DAYLIGHT
TZOFFSETFROM:+0100
TZOFFSETTO:+0200
TZNAME:CEST
DTSTART:20250330T010000
END:DAYLIGHT
BEGIN:STANDARD
TZOFFSETFROM:+0200
TZOFFSETTO:+0100
TZNAME:CET
DTSTART:20251026T010000
END:STANDARD
BEGIN:DAYLIGHT
TZOFFSETFROM:+0100
TZOFFSETTO:+0200
TZNAME:CEST
DTSTART:20260329T010000
END:DAYLIGHT
BEGIN:STANDARD
TZOFFSETFROM:+0200
TZOFFSETTO:+0100
TZNAME:CET
DTSTART:20261025T010000
END:STANDARD
END:VTIMEZONE
BEGIN:VEVENT
DTSTART;TZID=Europe/Berlin:20250405T104500
DTEND;TZID=Europe/Berlin:20250405T114500
DTSTAMP:20260423T232535
CREATED:20250220T150802Z
LAST-MODIFIED:20250220T150802Z
UID:1540-1743849900-1743853500@www.mensch-tier-sprache.de
SUMMARY:Junghundeschule
DESCRIPTION:
URL:https://www.mensch-tier-sprache.de/veranstaltung/junghundeschule-4/
LOCATION:Köln-Bickendorf\, Rochuspark
CATEGORIES:Hundeschule,Junghunde
END:VEVENT
BEGIN:VEVENT
DTSTART;TZID=Europe/Berlin:20250405T140000
DTEND;TZID=Europe/Berlin:20250405T153000
DTSTAMP:20260423T232535
CREATED:20250220T170823Z
LAST-MODIFIED:20250220T170823Z
UID:1630-1743861600-1743867000@www.mensch-tier-sprache.de
SUMMARY:Workshop Anti-Giftköder-Training
DESCRIPTION:
URL:https://www.mensch-tier-sprache.de/veranstaltung/workshop-anti-giftkoeder-training/
LOCATION:Köln-Bickendorf\, Rochuspark
CATEGORIES:Anti-Giftköder-Training,Workshop
END:VEVENT
BEGIN:VEVENT
DTSTART;TZID=Europe/Berlin:20250406T100000
DTEND;TZID=Europe/Berlin:20250406T110000
DTSTAMP:20260423T232535
CREATED:20250220T152715Z
LAST-MODIFIED:20250220T152715Z
UID:1562-1743933600-1743937200@www.mensch-tier-sprache.de
SUMMARY:Junghunde und Anfänger
DESCRIPTION:
URL:https://www.mensch-tier-sprache.de/veranstaltung/junghunde-und-anfaenger-6/
LOCATION:Köln-Bickendorf\, Rochuspark
CATEGORIES:Hundeschule,Hundeschule (Grundausbildung),Junghunde
END:VEVENT
BEGIN:VEVENT
DTSTART;TZID=Europe/Berlin:20250406T111500
DTEND;TZID=Europe/Berlin:20250406T121500
DTSTAMP:20260423T232535
CREATED:20250220T153806Z
LAST-MODIFIED:20250220T153806Z
UID:1578-1743938100-1743941700@www.mensch-tier-sprache.de
SUMMARY:Fortgeschrittene 1
DESCRIPTION:
URL:https://www.mensch-tier-sprache.de/veranstaltung/fortgeschrittene-1-6/
LOCATION:Köln-Bickendorf\, Rochuspark
CATEGORIES:Hundeschule
END:VEVENT
BEGIN:VEVENT
DTSTART;TZID=Europe/Berlin:20250412T104500
DTEND;TZID=Europe/Berlin:20250412T114500
DTSTAMP:20260423T232535
CREATED:20250220T150932Z
LAST-MODIFIED:20250220T150932Z
UID:1542-1744454700-1744458300@www.mensch-tier-sprache.de
SUMMARY:Junghundeschule
DESCRIPTION:
URL:https://www.mensch-tier-sprache.de/veranstaltung/junghundeschule-5/
LOCATION:Köln-Bickendorf\, Rochuspark
CATEGORIES:Hundeschule,Junghunde
END:VEVENT
BEGIN:VEVENT
DTSTART;TZID=Europe/Berlin:20250412T140000
DTEND;TZID=Europe/Berlin:20250412T153000
DTSTAMP:20260423T232535
CREATED:20250220T172727Z
LAST-MODIFIED:20250220T172727Z
UID:1638-1744466400-1744471800@www.mensch-tier-sprache.de
SUMMARY:Workshop Dummy- + Apportierarbeit
DESCRIPTION:
URL:https://www.mensch-tier-sprache.de/veranstaltung/workshop-dummy-apportierarbeit/
LOCATION:Köln-Bickendorf\, Rochuspark
CATEGORIES:Hundeschule,Workshop
END:VEVENT
BEGIN:VEVENT
DTSTART;TZID=Europe/Berlin:20250413T100000
DTEND;TZID=Europe/Berlin:20250413T110000
DTSTAMP:20260423T232535
CREATED:20250220T154056Z
LAST-MODIFIED:20250220T154056Z
UID:1580-1744538400-1744542000@www.mensch-tier-sprache.de
SUMMARY:Junghunde und Anfänger
DESCRIPTION:
URL:https://www.mensch-tier-sprache.de/veranstaltung/junghunde-und-anfaenger-9/
LOCATION:Köln-Bickendorf\, Rochuspark
CATEGORIES:Hundeschule,Junghunde
END:VEVENT
BEGIN:VEVENT
DTSTART;TZID=Europe/Berlin:20250413T111500
DTEND;TZID=Europe/Berlin:20250413T121500
DTSTAMP:20260423T232535
CREATED:20250220T154351Z
LAST-MODIFIED:20250220T154351Z
UID:1582-1744542900-1744546500@www.mensch-tier-sprache.de
SUMMARY:Fortgeschrittene 1
DESCRIPTION:
URL:https://www.mensch-tier-sprache.de/veranstaltung/fortgeschrittene-1-7/
LOCATION:Köln-Bickendorf\, Rochuspark
CATEGORIES:Hundeschule
END:VEVENT
BEGIN:VEVENT
DTSTART;TZID=Europe/Berlin:20250419T104500
DTEND;TZID=Europe/Berlin:20250419T114500
DTSTAMP:20260423T232535
CREATED:20250220T151506Z
LAST-MODIFIED:20250220T151506Z
UID:1548-1745059500-1745063100@www.mensch-tier-sprache.de
SUMMARY:Junghundeschule
DESCRIPTION:
URL:https://www.mensch-tier-sprache.de/veranstaltung/junghundeschule-8/
LOCATION:Köln-Bickendorf\, Rochuspark
CATEGORIES:Hundeschule,Junghunde
END:VEVENT
BEGIN:VEVENT
DTSTART;TZID=Europe/Berlin:20250419T140000
DTEND;TZID=Europe/Berlin:20250419T153000
DTSTAMP:20260423T232535
CREATED:20250220T171901Z
LAST-MODIFIED:20250220T171901Z
UID:1632-1745071200-1745076600@www.mensch-tier-sprache.de
SUMMARY:Workshop Anti-Giftköder-Training
DESCRIPTION:
URL:https://www.mensch-tier-sprache.de/veranstaltung/workshop-anti-giftkoeder-training-2/
LOCATION:Köln-Bickendorf\, Rochuspark
CATEGORIES:Anti-Giftköder-Training,Workshop
END:VEVENT
BEGIN:VEVENT
DTSTART;TZID=Europe/Berlin:20250420T100000
DTEND;TZID=Europe/Berlin:20250420T110000
DTSTAMP:20260423T232535
CREATED:20250220T152824Z
LAST-MODIFIED:20250220T152824Z
UID:1564-1745143200-1745146800@www.mensch-tier-sprache.de
SUMMARY:Junghunde und Anfänger
DESCRIPTION:
URL:https://www.mensch-tier-sprache.de/veranstaltung/junghunde-und-anfaenger-7/
LOCATION:Köln-Bickendorf\, Rochuspark
CATEGORIES:Hundeschule,Hundeschule (Grundausbildung),Junghunde
END:VEVENT
BEGIN:VEVENT
DTSTART;TZID=Europe/Berlin:20250420T111500
DTEND;TZID=Europe/Berlin:20250420T121500
DTSTAMP:20260423T232535
CREATED:20250220T154456Z
LAST-MODIFIED:20250220T154456Z
UID:1584-1745147700-1745151300@www.mensch-tier-sprache.de
SUMMARY:Fortgeschrittene 1
DESCRIPTION:
URL:https://www.mensch-tier-sprache.de/veranstaltung/fortgeschrittene-1-8/
LOCATION:Köln-Bickendorf\, Rochuspark
CATEGORIES:Hundeschule
END:VEVENT
BEGIN:VEVENT
DTSTART;TZID=Europe/Berlin:20250426T140000
DTEND;TZID=Europe/Berlin:20250426T153000
DTSTAMP:20260423T232535
CREATED:20250220T173039Z
LAST-MODIFIED:20250220T173039Z
UID:1640-1745676000-1745681400@www.mensch-tier-sprache.de
SUMMARY:Workshop Dummy- u. Apportierarbeit
DESCRIPTION:
URL:https://www.mensch-tier-sprache.de/veranstaltung/workshop-dummy-u-apportierarbeit/
LOCATION:Köln-Bickendorf\, Rochuspark
CATEGORIES:Workshop
END:VEVENT
BEGIN:VEVENT
DTSTART;TZID=Europe/Berlin:20250427T100000
DTEND;TZID=Europe/Berlin:20250427T110000
DTSTAMP:20260423T232535
CREATED:20250220T152937Z
LAST-MODIFIED:20250220T152937Z
UID:1566-1745748000-1745751600@www.mensch-tier-sprache.de
SUMMARY:Junghunde und Anfänger
DESCRIPTION:
URL:https://www.mensch-tier-sprache.de/veranstaltung/junghunde-und-anfaenger-8/
LOCATION:Köln-Bickendorf\, Rochuspark
CATEGORIES:Hundeschule,Hundeschule (Grundausbildung),Junghunde
END:VEVENT
BEGIN:VEVENT
DTSTART;TZID=Europe/Berlin:20250427T111500
DTEND;TZID=Europe/Berlin:20250427T121500
DTSTAMP:20260423T232535
CREATED:20250220T154553Z
LAST-MODIFIED:20250220T154553Z
UID:1586-1745752500-1745756100@www.mensch-tier-sprache.de
SUMMARY:Fortgeschrittene 1
DESCRIPTION:
URL:https://www.mensch-tier-sprache.de/veranstaltung/fortgeschrittene-1-9/
LOCATION:Köln-Bickendorf\, Rochuspark
CATEGORIES:Hundeschule
END:VEVENT
END:VCALENDAR