BEGIN:VCALENDAR
VERSION:2.0
PRODID:-//Mensch-Tier-Sprache - ECPv6.15.20//NONSGML v1.0//EN
CALSCALE:GREGORIAN
METHOD:PUBLISH
X-WR-CALNAME:Mensch-Tier-Sprache
X-ORIGINAL-URL:https://www.mensch-tier-sprache.de
X-WR-CALDESC:Veranstaltungen für Mensch-Tier-Sprache
REFRESH-INTERVAL;VALUE=DURATION:PT1H
X-Robots-Tag:noindex
X-PUBLISHED-TTL:PT1H
BEGIN:VTIMEZONE
TZID:Europe/Berlin
BEGIN:DAYLIGHT
TZOFFSETFROM:+0100
TZOFFSETTO:+0200
TZNAME:CEST
DTSTART:20230326T010000
END:DAYLIGHT
BEGIN:STANDARD
TZOFFSETFROM:+0200
TZOFFSETTO:+0100
TZNAME:CET
DTSTART:20231029T010000
END:STANDARD
BEGIN:DAYLIGHT
TZOFFSETFROM:+0100
TZOFFSETTO:+0200
TZNAME:CEST
DTSTART:20240331T010000
END:DAYLIGHT
BEGIN:STANDARD
TZOFFSETFROM:+0200
TZOFFSETTO:+0100
TZNAME:CET
DTSTART:20241027T010000
END:STANDARD
BEGIN:DAYLIGHT
TZOFFSETFROM:+0100
TZOFFSETTO:+0200
TZNAME:CEST
DTSTART:20250330T010000
END:DAYLIGHT
BEGIN:STANDARD
TZOFFSETFROM:+0200
TZOFFSETTO:+0100
TZNAME:CET
DTSTART:20251026T010000
END:STANDARD
END:VTIMEZONE
BEGIN:VEVENT
DTSTART;TZID=Europe/Berlin:20241102T104500
DTEND;TZID=Europe/Berlin:20241102T114500
DTSTAMP:20260423T045951
CREATED:20241001T141229Z
LAST-MODIFIED:20241001T141229Z
UID:1361-1730544300-1730547900@www.mensch-tier-sprache.de
SUMMARY:Junghunde (>5 Monate)
DESCRIPTION:
URL:https://www.mensch-tier-sprache.de/veranstaltung/junghunde-5-monate-4/
LOCATION:Köln-Ehrenfeld
CATEGORIES:Hundeschule,Junghunde
END:VEVENT
BEGIN:VEVENT
DTSTART;TZID=Europe/Berlin:20241103T111500
DTEND;TZID=Europe/Berlin:20241103T121500
DTSTAMP:20260423T045951
CREATED:20241001T151808Z
LAST-MODIFIED:20241001T151808Z
UID:1415-1730632500-1730636100@www.mensch-tier-sprache.de
SUMMARY:Hundeschule Fortgeschrittene
DESCRIPTION:
URL:https://www.mensch-tier-sprache.de/veranstaltung/hundeschule-fortgeschrittene-34/
LOCATION:Köln-Ehrenfeld
CATEGORIES:Hundeschule
END:VEVENT
BEGIN:VEVENT
DTSTART;TZID=Europe/Berlin:20241110T100000
DTEND;TZID=Europe/Berlin:20241110T110000
DTSTAMP:20260423T045951
CREATED:20241001T145508Z
LAST-MODIFIED:20241001T145508Z
UID:1395-1731232800-1731236400@www.mensch-tier-sprache.de
SUMMARY:Junghunde und Beginner
DESCRIPTION:
URL:https://www.mensch-tier-sprache.de/veranstaltung/junghunde-und-beginner-13/
LOCATION:Köln-Ehrenfeld
CATEGORIES:Hundeschule
END:VEVENT
BEGIN:VEVENT
DTSTART;TZID=Europe/Berlin:20241110T111500
DTEND;TZID=Europe/Berlin:20241110T121500
DTSTAMP:20260423T045951
CREATED:20241001T151920Z
LAST-MODIFIED:20241001T151920Z
UID:1417-1731237300-1731240900@www.mensch-tier-sprache.de
SUMMARY:Hundeschule Fortgeschrittene
DESCRIPTION:
URL:https://www.mensch-tier-sprache.de/veranstaltung/hundeschule-fortgeschrittene-35/
LOCATION:Köln-Ehrenfeld
CATEGORIES:Hundeschule
END:VEVENT
BEGIN:VEVENT
DTSTART;TZID=Europe/Berlin:20241117T111500
DTEND;TZID=Europe/Berlin:20241117T121500
DTSTAMP:20260423T045951
CREATED:20241001T152027Z
LAST-MODIFIED:20241001T152120Z
UID:1419-1731842100-1731845700@www.mensch-tier-sprache.de
SUMMARY:Hundeschule Fortgeschrittene
DESCRIPTION:
URL:https://www.mensch-tier-sprache.de/veranstaltung/hundeschule-fortgeschrittene-36/
LOCATION:Köln-Ehrenfeld
CATEGORIES:Hundeschule
END:VEVENT
BEGIN:VEVENT
DTSTART;TZID=Europe/Berlin:20241124T100000
DTEND;TZID=Europe/Berlin:20241124T110000
DTSTAMP:20260423T045951
CREATED:20241001T145735Z
LAST-MODIFIED:20241001T145735Z
UID:1399-1732442400-1732446000@www.mensch-tier-sprache.de
SUMMARY:Junghunde und Beginner
DESCRIPTION:
URL:https://www.mensch-tier-sprache.de/veranstaltung/junghunde-und-beginner-15/
LOCATION:Köln-Ehrenfeld
CATEGORIES:Hundeschule
END:VEVENT
BEGIN:VEVENT
DTSTART;TZID=Europe/Berlin:20241124T111500
DTEND;TZID=Europe/Berlin:20241124T121500
DTSTAMP:20260423T045951
CREATED:20241001T152247Z
LAST-MODIFIED:20241001T152247Z
UID:1421-1732446900-1732450500@www.mensch-tier-sprache.de
SUMMARY:Hundeschule Fortgeschrittene
DESCRIPTION:
URL:https://www.mensch-tier-sprache.de/veranstaltung/hundeschule-fortgeschrittene-37/
CATEGORIES:Hundeschule
END:VEVENT
BEGIN:VEVENT
DTSTART;TZID=Europe/Berlin:20241130T104500
DTEND;TZID=Europe/Berlin:20241130T114500
DTSTAMP:20260423T045951
CREATED:20241001T141823Z
LAST-MODIFIED:20241001T141925Z
UID:1368-1732963500-1732967100@www.mensch-tier-sprache.de
SUMMARY:Junghunde (>5 Monate)
DESCRIPTION:
URL:https://www.mensch-tier-sprache.de/veranstaltung/junghunde-5-monate-7/
LOCATION:Köln-Ehrenfeld
CATEGORIES:Hundeschule,Junghunde
END:VEVENT
END:VCALENDAR