BEGIN:VCALENDAR
VERSION:2.0
PRODID:-//Mensch-Tier-Sprache - ECPv6.15.20//NONSGML v1.0//EN
CALSCALE:GREGORIAN
METHOD:PUBLISH
X-ORIGINAL-URL:https://www.mensch-tier-sprache.de
X-WR-CALDESC:Veranstaltungen für Mensch-Tier-Sprache
REFRESH-INTERVAL;VALUE=DURATION:PT1H
X-Robots-Tag:noindex
X-PUBLISHED-TTL:PT1H
BEGIN:VTIMEZONE
TZID:Europe/Berlin
BEGIN:DAYLIGHT
TZOFFSETFROM:+0100
TZOFFSETTO:+0200
TZNAME:CEST
DTSTART:20230326T010000
END:DAYLIGHT
BEGIN:STANDARD
TZOFFSETFROM:+0200
TZOFFSETTO:+0100
TZNAME:CET
DTSTART:20231029T010000
END:STANDARD
BEGIN:DAYLIGHT
TZOFFSETFROM:+0100
TZOFFSETTO:+0200
TZNAME:CEST
DTSTART:20240331T010000
END:DAYLIGHT
BEGIN:STANDARD
TZOFFSETFROM:+0200
TZOFFSETTO:+0100
TZNAME:CET
DTSTART:20241027T010000
END:STANDARD
BEGIN:DAYLIGHT
TZOFFSETFROM:+0100
TZOFFSETTO:+0200
TZNAME:CEST
DTSTART:20250330T010000
END:DAYLIGHT
BEGIN:STANDARD
TZOFFSETFROM:+0200
TZOFFSETTO:+0100
TZNAME:CET
DTSTART:20251026T010000
END:STANDARD
END:VTIMEZONE
BEGIN:VEVENT
DTSTART;TZID=Europe/Berlin:20241102T104500
DTEND;TZID=Europe/Berlin:20241102T114500
DTSTAMP:20260421T024400
CREATED:20241001T141229Z
LAST-MODIFIED:20241001T141229Z
UID:1361-1730544300-1730547900@www.mensch-tier-sprache.de
SUMMARY:Junghunde (>5 Monate)
DESCRIPTION:
URL:https://www.mensch-tier-sprache.de/veranstaltung/junghunde-5-monate-4/
LOCATION:Köln-Ehrenfeld
CATEGORIES:Hundeschule,Junghunde
END:VEVENT
BEGIN:VEVENT
DTSTART;TZID=Europe/Berlin:20241103T100000
DTEND;TZID=Europe/Berlin:20241103T110000
DTSTAMP:20260421T024400
CREATED:20241001T144219Z
LAST-MODIFIED:20241001T144219Z
UID:1389-1730628000-1730631600@www.mensch-tier-sprache.de
SUMMARY:Junghunde und Beginner
DESCRIPTION:
URL:https://www.mensch-tier-sprache.de/veranstaltung/junghunde-und-beginner-10/
LOCATION:Köln-Ehrenfeld
CATEGORIES:Hundeschule
END:VEVENT
BEGIN:VEVENT
DTSTART;TZID=Europe/Berlin:20241109T104500
DTEND;TZID=Europe/Berlin:20241109T114500
DTSTAMP:20260421T024400
CREATED:20241001T141624Z
LAST-MODIFIED:20241001T141624Z
UID:1364-1731149100-1731152700@www.mensch-tier-sprache.de
SUMMARY:Junghunde (>5 Monate)
DESCRIPTION:
URL:https://www.mensch-tier-sprache.de/veranstaltung/junghunde-5-monate-5/
LOCATION:Köln-Ehrenfeld
CATEGORIES:Hundeschule,Junghunde
END:VEVENT
BEGIN:VEVENT
DTSTART;TZID=Europe/Berlin:20241116T104500
DTEND;TZID=Europe/Berlin:20241116T114500
DTSTAMP:20260421T024400
CREATED:20241001T141735Z
LAST-MODIFIED:20241001T141735Z
UID:1366-1731753900-1731757500@www.mensch-tier-sprache.de
SUMMARY:Junghunde (>5 Monate)
DESCRIPTION:
URL:https://www.mensch-tier-sprache.de/veranstaltung/junghunde-5-monate-6/
LOCATION:Köln-Ehrenfeld
CATEGORIES:Hundeschule,Junghunde
END:VEVENT
BEGIN:VEVENT
DTSTART;TZID=Europe/Berlin:20241117T100000
DTEND;TZID=Europe/Berlin:20241117T110000
DTSTAMP:20260421T024400
CREATED:20241001T145602Z
LAST-MODIFIED:20241001T145602Z
UID:1397-1731837600-1731841200@www.mensch-tier-sprache.de
SUMMARY:Junghunde und Beginner
DESCRIPTION:
URL:https://www.mensch-tier-sprache.de/veranstaltung/junghunde-und-beginner-14/
LOCATION:Köln-Ehrenfeld
CATEGORIES:Hundeschule
END:VEVENT
BEGIN:VEVENT
DTSTART;TZID=Europe/Berlin:20241123T104500
DTEND;TZID=Europe/Berlin:20241123T114500
DTSTAMP:20260421T024400
CREATED:20241001T134039Z
LAST-MODIFIED:20241001T142030Z
UID:1324-1732358700-1732362300@www.mensch-tier-sprache.de
SUMMARY:Junghunde (>5 Monate)
DESCRIPTION:
URL:https://www.mensch-tier-sprache.de/veranstaltung/welpengruppe-53/
LOCATION:Köln-Ehrenfeld
CATEGORIES:Hundeschule
END:VEVENT
BEGIN:VEVENT
DTSTART;TZID=Europe/Berlin:20241124T100000
DTEND;TZID=Europe/Berlin:20241124T110000
DTSTAMP:20260421T024400
CREATED:20241001T145735Z
LAST-MODIFIED:20241001T145735Z
UID:1399-1732442400-1732446000@www.mensch-tier-sprache.de
SUMMARY:Junghunde und Beginner
DESCRIPTION:
URL:https://www.mensch-tier-sprache.de/veranstaltung/junghunde-und-beginner-15/
LOCATION:Köln-Ehrenfeld
CATEGORIES:Hundeschule
END:VEVENT
BEGIN:VEVENT
DTSTART;TZID=Europe/Berlin:20241130T104500
DTEND;TZID=Europe/Berlin:20241130T114500
DTSTAMP:20260421T024400
CREATED:20241001T141823Z
LAST-MODIFIED:20241001T141925Z
UID:1368-1732963500-1732967100@www.mensch-tier-sprache.de
SUMMARY:Junghunde (>5 Monate)
DESCRIPTION:
URL:https://www.mensch-tier-sprache.de/veranstaltung/junghunde-5-monate-7/
LOCATION:Köln-Ehrenfeld
CATEGORIES:Hundeschule,Junghunde
END:VEVENT
END:VCALENDAR