BEGIN:VCALENDAR
VERSION:2.0
PRODID:-//Mensch-Tier-Sprache - ECPv6.15.20//NONSGML v1.0//EN
CALSCALE:GREGORIAN
METHOD:PUBLISH
X-ORIGINAL-URL:https://www.mensch-tier-sprache.de
X-WR-CALDESC:Veranstaltungen für Mensch-Tier-Sprache
REFRESH-INTERVAL;VALUE=DURATION:PT1H
X-Robots-Tag:noindex
X-PUBLISHED-TTL:PT1H
BEGIN:VTIMEZONE
TZID:Europe/Berlin
BEGIN:DAYLIGHT
TZOFFSETFROM:+0100
TZOFFSETTO:+0200
TZNAME:CEST
DTSTART:20230326T010000
END:DAYLIGHT
BEGIN:STANDARD
TZOFFSETFROM:+0200
TZOFFSETTO:+0100
TZNAME:CET
DTSTART:20231029T010000
END:STANDARD
BEGIN:DAYLIGHT
TZOFFSETFROM:+0100
TZOFFSETTO:+0200
TZNAME:CEST
DTSTART:20240331T010000
END:DAYLIGHT
BEGIN:STANDARD
TZOFFSETFROM:+0200
TZOFFSETTO:+0100
TZNAME:CET
DTSTART:20241027T010000
END:STANDARD
BEGIN:DAYLIGHT
TZOFFSETFROM:+0100
TZOFFSETTO:+0200
TZNAME:CEST
DTSTART:20250330T010000
END:DAYLIGHT
BEGIN:STANDARD
TZOFFSETFROM:+0200
TZOFFSETTO:+0100
TZNAME:CET
DTSTART:20251026T010000
END:STANDARD
END:VTIMEZONE
BEGIN:VEVENT
DTSTART;TZID=Europe/Berlin:20240505T150000
DTEND;TZID=Europe/Berlin:20240505T163000
DTSTAMP:20260423T012322
CREATED:20240301T122519Z
LAST-MODIFIED:20240312T110232Z
UID:1242-1714921200-1714926600@www.mensch-tier-sprache.de
SUMMARY:Agility
DESCRIPTION:
URL:https://www.mensch-tier-sprache.de/veranstaltung/agility-9/
LOCATION:Köln-Ehrenfeld
CATEGORIES:Hundesport
END:VEVENT
BEGIN:VEVENT
DTSTART;TZID=Europe/Berlin:20240512T150000
DTEND;TZID=Europe/Berlin:20240512T163000
DTSTAMP:20260423T012322
CREATED:20240301T122751Z
LAST-MODIFIED:20240301T122751Z
UID:1244-1715526000-1715531400@www.mensch-tier-sprache.de
SUMMARY:Agility
DESCRIPTION:
URL:https://www.mensch-tier-sprache.de/veranstaltung/agility-10/
LOCATION:Köln-Ehrenfeld
CATEGORIES:Hundesport
END:VEVENT
BEGIN:VEVENT
DTSTART;TZID=Europe/Berlin:20240519T150000
DTEND;TZID=Europe/Berlin:20240519T163000
DTSTAMP:20260423T012322
CREATED:20240301T122841Z
LAST-MODIFIED:20240301T122841Z
UID:1246-1716130800-1716136200@www.mensch-tier-sprache.de
SUMMARY:Agility
DESCRIPTION:
URL:https://www.mensch-tier-sprache.de/veranstaltung/agility-11/
LOCATION:Köln-Ehrenfeld
CATEGORIES:Hundesport
END:VEVENT
BEGIN:VEVENT
DTSTART;TZID=Europe/Berlin:20240526T150000
DTEND;TZID=Europe/Berlin:20240526T163000
DTSTAMP:20260423T012322
CREATED:20240301T122946Z
LAST-MODIFIED:20240312T115634Z
UID:1248-1716735600-1716741000@www.mensch-tier-sprache.de
SUMMARY:Agility
DESCRIPTION:
URL:https://www.mensch-tier-sprache.de/veranstaltung/agility-12/
LOCATION:Köln-Ehrenfeld
CATEGORIES:Hundesport
END:VEVENT
END:VCALENDAR