BEGIN:VCALENDAR
VERSION:2.0
PRODID:-//Mensch-Tier-Sprache - ECPv6.15.20//NONSGML v1.0//EN
CALSCALE:GREGORIAN
METHOD:PUBLISH
X-WR-CALNAME:Mensch-Tier-Sprache
X-ORIGINAL-URL:https://www.mensch-tier-sprache.de
X-WR-CALDESC:Veranstaltungen für Mensch-Tier-Sprache
REFRESH-INTERVAL;VALUE=DURATION:PT1H
X-Robots-Tag:noindex
X-PUBLISHED-TTL:PT1H
BEGIN:VTIMEZONE
TZID:Europe/Berlin
BEGIN:DAYLIGHT
TZOFFSETFROM:+0100
TZOFFSETTO:+0200
TZNAME:CEST
DTSTART:20230326T010000
END:DAYLIGHT
BEGIN:STANDARD
TZOFFSETFROM:+0200
TZOFFSETTO:+0100
TZNAME:CET
DTSTART:20231029T010000
END:STANDARD
BEGIN:DAYLIGHT
TZOFFSETFROM:+0100
TZOFFSETTO:+0200
TZNAME:CEST
DTSTART:20240331T010000
END:DAYLIGHT
BEGIN:STANDARD
TZOFFSETFROM:+0200
TZOFFSETTO:+0100
TZNAME:CET
DTSTART:20241027T010000
END:STANDARD
BEGIN:DAYLIGHT
TZOFFSETFROM:+0100
TZOFFSETTO:+0200
TZNAME:CEST
DTSTART:20250330T010000
END:DAYLIGHT
BEGIN:STANDARD
TZOFFSETFROM:+0200
TZOFFSETTO:+0100
TZNAME:CET
DTSTART:20251026T010000
END:STANDARD
END:VTIMEZONE
BEGIN:VEVENT
DTSTART;TZID=Europe/Berlin:20240407T150000
DTEND;TZID=Europe/Berlin:20240407T163000
DTSTAMP:20260423T042059
CREATED:20240301T122034Z
LAST-MODIFIED:20240301T122034Z
UID:1234-1712502000-1712507400@www.mensch-tier-sprache.de
SUMMARY:Agility
DESCRIPTION:
URL:https://www.mensch-tier-sprache.de/veranstaltung/agility-5/
LOCATION:Köln-Ehrenfeld
CATEGORIES:Hundesport
END:VEVENT
BEGIN:VEVENT
DTSTART;TZID=Europe/Berlin:20240414T150000
DTEND;TZID=Europe/Berlin:20240414T163000
DTSTAMP:20260423T042059
CREATED:20240301T122240Z
LAST-MODIFIED:20240301T122241Z
UID:1236-1713106800-1713112200@www.mensch-tier-sprache.de
SUMMARY:Agility
DESCRIPTION:
URL:https://www.mensch-tier-sprache.de/veranstaltung/agility-6/
LOCATION:Köln-Ehrenfeld
CATEGORIES:Hundesport
END:VEVENT
BEGIN:VEVENT
DTSTART;TZID=Europe/Berlin:20240421T150000
DTEND;TZID=Europe/Berlin:20240421T163000
DTSTAMP:20260423T042059
CREATED:20240301T122336Z
LAST-MODIFIED:20240301T122336Z
UID:1238-1713711600-1713717000@www.mensch-tier-sprache.de
SUMMARY:Agility
DESCRIPTION:
URL:https://www.mensch-tier-sprache.de/veranstaltung/agility-7/
LOCATION:Köln-Ehrenfeld
CATEGORIES:Hundesport
END:VEVENT
BEGIN:VEVENT
DTSTART;TZID=Europe/Berlin:20240428T150000
DTEND;TZID=Europe/Berlin:20240428T163000
DTSTAMP:20260423T042059
CREATED:20240301T122424Z
LAST-MODIFIED:20240301T122425Z
UID:1240-1714316400-1714321800@www.mensch-tier-sprache.de
SUMMARY:Agility
DESCRIPTION:
URL:https://www.mensch-tier-sprache.de/veranstaltung/agility-8/
LOCATION:Köln-Ehrenfeld
CATEGORIES:Hundesport
END:VEVENT
END:VCALENDAR