BEGIN:VCALENDAR
VERSION:2.0
PRODID:-//Mensch-Tier-Sprache - ECPv6.15.20//NONSGML v1.0//EN
CALSCALE:GREGORIAN
METHOD:PUBLISH
X-ORIGINAL-URL:https://www.mensch-tier-sprache.de
X-WR-CALDESC:Veranstaltungen für Mensch-Tier-Sprache
REFRESH-INTERVAL;VALUE=DURATION:PT1H
X-Robots-Tag:noindex
X-PUBLISHED-TTL:PT1H
BEGIN:VTIMEZONE
TZID:Europe/Berlin
BEGIN:DAYLIGHT
TZOFFSETFROM:+0100
TZOFFSETTO:+0200
TZNAME:CEST
DTSTART:20250330T010000
END:DAYLIGHT
BEGIN:STANDARD
TZOFFSETFROM:+0200
TZOFFSETTO:+0100
TZNAME:CET
DTSTART:20251026T010000
END:STANDARD
BEGIN:DAYLIGHT
TZOFFSETFROM:+0100
TZOFFSETTO:+0200
TZNAME:CEST
DTSTART:20260329T010000
END:DAYLIGHT
BEGIN:STANDARD
TZOFFSETFROM:+0200
TZOFFSETTO:+0100
TZNAME:CET
DTSTART:20261025T010000
END:STANDARD
BEGIN:DAYLIGHT
TZOFFSETFROM:+0100
TZOFFSETTO:+0200
TZNAME:CEST
DTSTART:20270328T010000
END:DAYLIGHT
BEGIN:STANDARD
TZOFFSETFROM:+0200
TZOFFSETTO:+0100
TZNAME:CET
DTSTART:20271031T010000
END:STANDARD
END:VTIMEZONE
BEGIN:VEVENT
DTSTART;TZID=Europe/Berlin:20260207T093000
DTEND;TZID=Europe/Berlin:20260207T103000
DTSTAMP:20260420T062213
CREATED:20260109T120854Z
LAST-MODIFIED:20260109T120854Z
UID:1703-1770456600-1770460200@www.mensch-tier-sprache.de
SUMMARY:Welpengruppe
DESCRIPTION:Spielerische Sozialisierung inkl. erster leichter Trainingseinheiten.
URL:https://www.mensch-tier-sprache.de/veranstaltung/welpengruppe-69/
LOCATION:Köln-Bickendorf\, Rochuspark
CATEGORIES:Hundeschule,Welpen
END:VEVENT
BEGIN:VEVENT
DTSTART;TZID=Europe/Berlin:20260207T120000
DTEND;TZID=Europe/Berlin:20260207T130000
DTSTAMP:20260420T062213
CREATED:20260109T122946Z
LAST-MODIFIED:20260109T122946Z
UID:1719-1770465600-1770469200@www.mensch-tier-sprache.de
SUMMARY:Junghundekurs
DESCRIPTION:
URL:https://www.mensch-tier-sprache.de/veranstaltung/junghundekurs-6/
LOCATION:Köln-Bickendorf\, Rochuspark
CATEGORIES:Hundeschule (Grundausbildung),Junghunde
END:VEVENT
END:VCALENDAR