BEGIN:VCALENDAR
VERSION:2.0
PRODID:-//Mensch-Tier-Sprache - ECPv6.15.20//NONSGML v1.0//EN
CALSCALE:GREGORIAN
METHOD:PUBLISH
X-ORIGINAL-URL:https://www.mensch-tier-sprache.de
X-WR-CALDESC:Veranstaltungen für Mensch-Tier-Sprache
REFRESH-INTERVAL;VALUE=DURATION:PT1H
X-Robots-Tag:noindex
X-PUBLISHED-TTL:PT1H
BEGIN:VTIMEZONE
TZID:Europe/Berlin
BEGIN:DAYLIGHT
TZOFFSETFROM:+0100
TZOFFSETTO:+0200
TZNAME:CEST
DTSTART:20250330T010000
END:DAYLIGHT
BEGIN:STANDARD
TZOFFSETFROM:+0200
TZOFFSETTO:+0100
TZNAME:CET
DTSTART:20251026T010000
END:STANDARD
BEGIN:DAYLIGHT
TZOFFSETFROM:+0100
TZOFFSETTO:+0200
TZNAME:CEST
DTSTART:20260329T010000
END:DAYLIGHT
BEGIN:STANDARD
TZOFFSETFROM:+0200
TZOFFSETTO:+0100
TZNAME:CET
DTSTART:20261025T010000
END:STANDARD
BEGIN:DAYLIGHT
TZOFFSETFROM:+0100
TZOFFSETTO:+0200
TZNAME:CEST
DTSTART:20270328T010000
END:DAYLIGHT
BEGIN:STANDARD
TZOFFSETFROM:+0200
TZOFFSETTO:+0100
TZNAME:CET
DTSTART:20271031T010000
END:STANDARD
END:VTIMEZONE
BEGIN:VEVENT
DTSTART;TZID=Europe/Berlin:20260124T104500
DTEND;TZID=Europe/Berlin:20260124T114500
DTSTAMP:20260420T083021
CREATED:20260109T115602Z
LAST-MODIFIED:20260109T115602Z
UID:1691-1769251500-1769255100@www.mensch-tier-sprache.de
SUMMARY:Junghunde- u. Anfängerkurs
DESCRIPTION:
URL:https://www.mensch-tier-sprache.de/veranstaltung/junghunde-u-anfaengerkurs/
LOCATION:Köln-Bickendorf\, Rochuspark
CATEGORIES:Hundeschule (Grundausbildung)
END:VEVENT
BEGIN:VEVENT
DTSTART;TZID=Europe/Berlin:20260124T120000
DTEND;TZID=Europe/Berlin:20260124T130000
DTSTAMP:20260420T083021
CREATED:20260109T122635Z
LAST-MODIFIED:20260109T122635Z
UID:1715-1769256000-1769259600@www.mensch-tier-sprache.de
SUMMARY:Junghundekurs
DESCRIPTION:
URL:https://www.mensch-tier-sprache.de/veranstaltung/junghundekurs-4/
LOCATION:Köln-Bickendorf\, Rochuspark
CATEGORIES:Hundeschule (Grundausbildung),Junghunde
END:VEVENT
BEGIN:VEVENT
DTSTART;TZID=Europe/Berlin:20260124T150000
DTEND;TZID=Europe/Berlin:20260124T163000
DTSTAMP:20260420T083021
CREATED:20260109T130723Z
LAST-MODIFIED:20260109T130923Z
UID:1742-1769266800-1769272200@www.mensch-tier-sprache.de
SUMMARY:Mantrailing für Einsteiger
DESCRIPTION:
URL:https://www.mensch-tier-sprache.de/veranstaltung/mantrailing-fuer-einsteiger-3/
CATEGORIES:Hundesport
END:VEVENT
END:VCALENDAR